BEGIN:VCALENDAR
VERSION:2.0
PRODID:-//The J - St. Louis - ECPv6.15.16//NONSGML v1.0//EN
CALSCALE:GREGORIAN
METHOD:PUBLISH
X-ORIGINAL-URL:https://jccstl.com
X-WR-CALDESC:Events for The J - St. Louis
REFRESH-INTERVAL;VALUE=DURATION:PT1H
X-Robots-Tag:noindex
X-PUBLISHED-TTL:PT1H
BEGIN:VTIMEZONE
TZID:America/Chicago
BEGIN:DAYLIGHT
TZOFFSETFROM:-0600
TZOFFSETTO:-0500
TZNAME:CDT
DTSTART:20250309T080000
END:DAYLIGHT
BEGIN:STANDARD
TZOFFSETFROM:-0500
TZOFFSETTO:-0600
TZNAME:CST
DTSTART:20251102T070000
END:STANDARD
BEGIN:DAYLIGHT
TZOFFSETFROM:-0600
TZOFFSETTO:-0500
TZNAME:CDT
DTSTART:20260308T080000
END:DAYLIGHT
BEGIN:STANDARD
TZOFFSETFROM:-0500
TZOFFSETTO:-0600
TZNAME:CST
DTSTART:20261101T070000
END:STANDARD
BEGIN:DAYLIGHT
TZOFFSETFROM:-0600
TZOFFSETTO:-0500
TZNAME:CDT
DTSTART:20270314T080000
END:DAYLIGHT
BEGIN:STANDARD
TZOFFSETFROM:-0500
TZOFFSETTO:-0600
TZNAME:CST
DTSTART:20271107T070000
END:STANDARD
END:VTIMEZONE
BEGIN:VEVENT
DTSTART;TZID=America/Chicago:20260202T180000
DTEND;TZID=America/Chicago:20260202T200000
DTSTAMP:20260422T045816
CREATED:20260102T154239Z
LAST-MODIFIED:20260130T231720Z
UID:10001198-1770055200-1770062400@jccstl.com
SUMMARY:Nishmah's Ilene Joseph Salon Series: Strength & Resilience in the Darkest Moments
DESCRIPTION:Step into a space where voices matter and ideas spark connection. The Ilene Joseph Salon Series invites women to gather for meaningful\, facilitated conversations on timely topics that impact our lives and our community. These intimate discussions are hosted in the homes of Nishmah members and are designed to inspire\, educate\, and give Jewish women a place to connect. Attendance is always free\, with donations to Nishmah welcome. \nThis salon is held in partnership with Women’s Philanthropy of the Jewish Federation of St. Louis.   \nSalon Topic: Strength and Resilience in the Darkest Moments: Stories from a Psychotrauma Medic\nHadas Rucham\, EMT\, social worker\, and clinical director of United Hatzalah’s Psychotrauma Unit\, will share her frontline experiences responding to some of the most devastating crises of our time\, including local Iranian missile attacks\, Hurricane Ian\, and the horrific Bondi Beach shooting in Australia. \nHeld in the Beit Midrash at the Staenberg Family Center’s Arts & Education Building. \n\nRegister to Attend\nRegistration is required. \n\n\n\n\n\n\n\n\n\nThe Ilene Joseph Salon Series is part of Nishmah: The St. Louis Jewish Women’s Project and named for Ilene Joseph\, z”l\, one of Nishmah’s founders and a passionate supporter of the Salon Series. 
URL:https://jccstl.com/event/ilene-joseph-salon-series-strength-and-resilience-in-the-darkest-moments-stories-from-a-psychotrauma-medic/
LOCATION:The J – Staenberg Family Complex (Arts & Education Building)\, 2 Millstone Campus Drive\, St. Louis\, MO\, 63146
CATEGORIES:Jewish Life,Adults
ATTACH;FMTTYPE=image/png:https://jccstl.com/wp-content/uploads/2025/11/Nishmah-Ilene-Joseph-Salon-Series-Website-Feature-Image-as-Recd-by-Google-1280x720-1.png
GEO:38.6857087;-90.4096539
X-APPLE-STRUCTURED-LOCATION;VALUE=URI;X-ADDRESS=The J – Staenberg Family Complex (Arts & Education Building) 2 Millstone Campus Drive St. Louis MO 63146;X-APPLE-RADIUS=500;X-TITLE=2 Millstone Campus Drive:geo:-90.4096539,38.6857087
END:VEVENT
BEGIN:VEVENT
DTSTART;TZID=America/Chicago:20260205T110000
DTEND;TZID=America/Chicago:20260205T123000
DTSTAMP:20260422T045816
CREATED:20260107T063025Z
LAST-MODIFIED:20260108T183839Z
UID:10001223-1770289200-1770294600@jccstl.com
SUMMARY:Mom’s Support Circle with Jessica Manela Litwack\, MSW\, & The J's Family Center
DESCRIPTION:*Please note the date and time changes. \nMom’s Support Circle is for moms that crave connection and compassion–not perfection. Together\, we will share stories\, vent\, and learn tools for navigating the emotional side of motherhood-from identity shifts\, setting boundaries\, mom guilt\, and self-compassion. You will also receive practical tools for addressing your sleep concerns and other real-life mom struggles. It’s about connecting with others\, dropping the pressure\, and remembering you are already enough. This group is professionally lead by MSW and pediatric sleep coach Jessica Manela Litwack\, who has more than 14 years of experience working with moms and families. \nThis circle is a program of The J’s Family Center and takes place each Thursday from January 29 through March 5\, 2026. \nFREE | NO REGISTRATION REQUIRED \n  \n\nThe J’s Family Center is a welcoming space where families with young children (ages 5 and under) come to connect\, learn\, and grow together. We provide a warm and nurturing environment where caregivers and children find support\, friendships\, and joyful experiences.
URL:https://jccstl.com/event/moms-support-circle-with-jessica-manela-litwack-msw/2026-02-05/
LOCATION:The J – Marilyn Fox Building (Main Entrance)\, 16801 Baxter Road\, Chesterfield\, MO\, 63005\, United States
CATEGORIES:Early Childhood,Adults
ATTACH;FMTTYPE=image/png:https://jccstl.com/wp-content/uploads/2026/01/2026-FamilyCtr-Moms-Circle-Litwack-Event-Page-BannerFeature-Image.png
GEO:38.6607972;-90.5806006
X-APPLE-STRUCTURED-LOCATION;VALUE=URI;X-ADDRESS=The J – Marilyn Fox Building (Main Entrance) 16801 Baxter Road Chesterfield MO 63005 United States;X-APPLE-RADIUS=500;X-TITLE=16801 Baxter Road:geo:-90.5806006,38.6607972
END:VEVENT
BEGIN:VEVENT
DTSTART;TZID=America/Chicago:20260205T183000
DTEND;TZID=America/Chicago:20260205T193000
DTSTAMP:20260422T045816
CREATED:20260107T061733Z
LAST-MODIFIED:20260313T194823Z
UID:10001207-1770316200-1770319800@jccstl.com
SUMMARY:Moms Support Group with Dori Scallet\, MSW\, & The J's Family Center
DESCRIPTION:Under the facilitation of a licensed clinical social worker Dori Scallet\, MSW\, join us for our new monthly mom’s support group. This group is for women who need additional support in this season of motherhood. It is not designed for clinical therapy\, but rather a support tool in a group setting. \nFree childcare is available upon advance request; please email Emilie Brockman. \nWinter/Spring 2026 Schedule\nThis group meets 6:30-7:30pm monthly on the following dates: \n\nJanuary 8\nFebruary 5\nMarch 5\nApril 16\nMay 7\n\nRegistration\nNo registration is required to attend. \n\nAbout the J’s Family Center\nThe J’s Family Center is a welcoming space where families with young children (5 and under) come to connect\, learn\, and grow together. We provide a warm and nurturing environment where caregivers and children find support\, friendships\, and joyful experiences.
URL:https://jccstl.com/event/moms-support-group-with-dori-scallet-msw/2026-02-05/
LOCATION:MO
END:VEVENT
END:VCALENDAR