BEGIN:VCALENDAR
VERSION:2.0
PRODID:-//The J - St. Louis - ECPv6.15.16//NONSGML v1.0//EN
CALSCALE:GREGORIAN
METHOD:PUBLISH
X-ORIGINAL-URL:https://jccstl.com
X-WR-CALDESC:Events for The J - St. Louis
REFRESH-INTERVAL;VALUE=DURATION:PT1H
X-Robots-Tag:noindex
X-PUBLISHED-TTL:PT1H
BEGIN:VTIMEZONE
TZID:America/Chicago
BEGIN:DAYLIGHT
TZOFFSETFROM:-0600
TZOFFSETTO:-0500
TZNAME:CDT
DTSTART:20240310T080000
END:DAYLIGHT
BEGIN:STANDARD
TZOFFSETFROM:-0500
TZOFFSETTO:-0600
TZNAME:CST
DTSTART:20241103T070000
END:STANDARD
BEGIN:DAYLIGHT
TZOFFSETFROM:-0600
TZOFFSETTO:-0500
TZNAME:CDT
DTSTART:20250309T080000
END:DAYLIGHT
BEGIN:STANDARD
TZOFFSETFROM:-0500
TZOFFSETTO:-0600
TZNAME:CST
DTSTART:20251102T070000
END:STANDARD
BEGIN:DAYLIGHT
TZOFFSETFROM:-0600
TZOFFSETTO:-0500
TZNAME:CDT
DTSTART:20260308T080000
END:DAYLIGHT
BEGIN:STANDARD
TZOFFSETFROM:-0500
TZOFFSETTO:-0600
TZNAME:CST
DTSTART:20261101T070000
END:STANDARD
END:VTIMEZONE
BEGIN:VEVENT
DTSTART;TZID=America/Chicago:20251019T163000
DTEND;TZID=America/Chicago:20251019T180000
DTSTAMP:20260424T083824
CREATED:20250820T203307Z
LAST-MODIFIED:20250908T210842Z
UID:10000409-1760891400-1760896800@jccstl.com
SUMMARY:NJTea
DESCRIPTION:SAVE THE DATE! \nJoin New Jewish Theatre Artistic Director Rebekah Scallet on October 19 as she spills the tea on the NJT 2026 season lineup! Enjoy a traditional afternoon tea with sweet and savory delights and entertainment from some of your favorite NJT stars. \n  \nBuy Tickets
URL:https://jccstl.com/event/njtea/
LOCATION:MO\, United States
CATEGORIES:Cultural Arts & Ideas
ATTACH;FMTTYPE=image/jpeg:https://jccstl.com/wp-content/uploads/2025/08/3763_NJTea-Printed-EMAIL-GRAPHIC-scaled.jpg
END:VEVENT
END:VCALENDAR