BEGIN:VCALENDAR
VERSION:2.0
PRODID:-//The J - St. Louis - ECPv6.15.16//NONSGML v1.0//EN
CALSCALE:GREGORIAN
METHOD:PUBLISH
X-ORIGINAL-URL:https://jccstl.com
X-WR-CALDESC:Events for The J - St. Louis
REFRESH-INTERVAL;VALUE=DURATION:PT1H
X-Robots-Tag:noindex
X-PUBLISHED-TTL:PT1H
BEGIN:VTIMEZONE
TZID:America/Chicago
BEGIN:DAYLIGHT
TZOFFSETFROM:-0600
TZOFFSETTO:-0500
TZNAME:CDT
DTSTART:20220313T080000
END:DAYLIGHT
BEGIN:STANDARD
TZOFFSETFROM:-0500
TZOFFSETTO:-0600
TZNAME:CST
DTSTART:20221106T070000
END:STANDARD
BEGIN:DAYLIGHT
TZOFFSETFROM:-0600
TZOFFSETTO:-0500
TZNAME:CDT
DTSTART:20230312T080000
END:DAYLIGHT
BEGIN:STANDARD
TZOFFSETFROM:-0500
TZOFFSETTO:-0600
TZNAME:CST
DTSTART:20231105T070000
END:STANDARD
BEGIN:DAYLIGHT
TZOFFSETFROM:-0600
TZOFFSETTO:-0500
TZNAME:CDT
DTSTART:20240310T080000
END:DAYLIGHT
BEGIN:STANDARD
TZOFFSETFROM:-0500
TZOFFSETTO:-0600
TZNAME:CST
DTSTART:20241103T070000
END:STANDARD
END:VTIMEZONE
BEGIN:VEVENT
DTSTART;TZID=America/Chicago:20230904T190000
DTEND;TZID=America/Chicago:20230904T210000
DTSTAMP:20260425T082654
CREATED:20230712T155929Z
LAST-MODIFIED:20240816T142557Z
UID:10000198-1693854000-1693861200@jccstl.com
SUMMARY:Lynnie's Light
DESCRIPTION:Wednesday\, September 4\, 7pm\nThe J\, Staenberg Family Complex in Creve Coeur – Outdoor Pool\n\n\n21 years + This is a free event. All donations appreciated; RSVPs requested. \nProceeds from Lynnie’s Light for Life will benefit The Hamsa Wellness Community and other Nishmah programming associated with Lynnie’s Legacy Fund. \nLearn More
URL:https://jccstl.com/event/lynnies-light/
LOCATION:MO
CATEGORIES:Jewish Life,Community,Adults
END:VEVENT
BEGIN:VEVENT
DTSTART;TZID=America/Chicago:20230908T080000
DTEND;TZID=America/Chicago:20230910T170000
DTSTAMP:20260425T082654
CREATED:20230712T145347Z
LAST-MODIFIED:20230829T150508Z
UID:10000281-1694160000-1694365200@jccstl.com
SUMMARY:RE:Treat - Jewish Young Adults Retreat
DESCRIPTION:Young Adults 22-36. Join the J for the 2nd annual Re:Treat for young professionals! With Camp Sabra as a beautiful backdrop\, we created a Shabbat experience to interact with the corners of the Jewish community that do not see regular programming. RE:Treat allows participants to: \n\nExperience the joyous Judaism which is uniquely created in a camp setting\nConnect to their Jewish identities outside of traditional environments\nConnect with other Jews in their age groups\, creating a sense of belonging\n\nThis fall\, we plan to build on last year’s success and want YOU to join us. Spend the Shabbat before Rosh Hashanah with your peers in a magical camp setting. Plans include Kabbalat Shabbat overlooking the lake\, alternative Shabbat morning service options\, killer kosher food\, laid-back afternoon camp activities\, and much more! \nWe’re excited to share that Carla Friend will be our Songleader again this year! Carla is the Founder and Executive Director of Tkiya\, an organization with the mission of creating joyful Jewish connections through participatory music experiences. She is a 2018 recipient of the Young Pioneers Award from the Jewish Education Project\, a 2019 recipient of 36 Under 36 from the Jewish Week\, is on the musical team for Temple of the Stranger\, and hosts a JKids Radio show called Tkiya Town. Carla has an album of family-friendly Jewish music called Challalalah\, and she writes Jewish music for adults as well. She is very excited to be back for round two of RE:Treat! \nCamp Sabra\nFriday\, September 8 – Sunday\, September 10\n$54/single\, $72/couple \nRegister as an Individual \nRegister as a Couple \nLast October\, we began this wonderful experience\, and after the weekend\, we heard loud and clear that we should do it again this year. Here is what everyone said: \n\nThe Net Promoter Score was 90.91 (would recommend to a friend).\n100% of respondents indicated that they had made a friend/met someone new at the retreat.\n72.3% of respondents indicated that their Jewish knowledge increased as a result of their retreat attendance.
URL:https://jccstl.com/event/retreat-jewish-young-adults-retreat-2/
LOCATION:Camp Sabra – The Staenberg Peninsula\, 30750 Camp Sabra Road\, Rocky Mt\, MO\, 65072\, United States
ORGANIZER;CN="Avital Kadosh":MAILTO:akadosh@jccstl.org
GEO:38.2443723;-92.7344792
X-APPLE-STRUCTURED-LOCATION;VALUE=URI;X-ADDRESS=Camp Sabra – The Staenberg Peninsula 30750 Camp Sabra Road Rocky Mt MO 65072 United States;X-APPLE-RADIUS=500;X-TITLE=30750 Camp Sabra Road:geo:-92.7344792,38.2443723
END:VEVENT
BEGIN:VEVENT
DTSTART;TZID=America/Chicago:20230910T163000
DTEND;TZID=America/Chicago:20230910T180000
DTSTAMP:20260425T082654
CREATED:20230712T175639Z
LAST-MODIFIED:20230712T175639Z
UID:10000200-1694363400-1694368800@jccstl.com
SUMMARY:New Jewish Theatre 25th Anniversary Celebration & Fundraiser
DESCRIPTION:
URL:https://jccstl.com/event/new-jewish-theatre-25th-anniversary-celebration-fundraiser/
LOCATION:Arts & Education Building – The J Staenberg Family Complex\, 2 Millstone Campus Drive\, St. Louis\, MO\, 63146\, United States
CATEGORIES:Cultural Arts & Ideas,Jewish Life,Community
GEO:38.6857087;-90.4096539
X-APPLE-STRUCTURED-LOCATION;VALUE=URI;X-ADDRESS=Arts & Education Building – The J Staenberg Family Complex 2 Millstone Campus Drive St. Louis MO 63146 United States;X-APPLE-RADIUS=500;X-TITLE=2 Millstone Campus Drive:geo:-90.4096539,38.6857087
END:VEVENT
END:VCALENDAR