BEGIN:VCALENDAR
VERSION:2.0
PRODID:-//The J - St. Louis - ECPv6.15.16//NONSGML v1.0//EN
CALSCALE:GREGORIAN
METHOD:PUBLISH
X-WR-CALNAME:The J - St. Louis
X-ORIGINAL-URL:https://jccstl.com
X-WR-CALDESC:Events for The J - St. Louis
REFRESH-INTERVAL;VALUE=DURATION:PT1H
X-Robots-Tag:noindex
X-PUBLISHED-TTL:PT1H
BEGIN:VTIMEZONE
TZID:America/Chicago
BEGIN:DAYLIGHT
TZOFFSETFROM:-0600
TZOFFSETTO:-0500
TZNAME:CDT
DTSTART:20250309T080000
END:DAYLIGHT
BEGIN:STANDARD
TZOFFSETFROM:-0500
TZOFFSETTO:-0600
TZNAME:CST
DTSTART:20251102T070000
END:STANDARD
BEGIN:DAYLIGHT
TZOFFSETFROM:-0600
TZOFFSETTO:-0500
TZNAME:CDT
DTSTART:20260308T080000
END:DAYLIGHT
BEGIN:STANDARD
TZOFFSETFROM:-0500
TZOFFSETTO:-0600
TZNAME:CST
DTSTART:20261101T070000
END:STANDARD
BEGIN:DAYLIGHT
TZOFFSETFROM:-0600
TZOFFSETTO:-0500
TZNAME:CDT
DTSTART:20270314T080000
END:DAYLIGHT
BEGIN:STANDARD
TZOFFSETFROM:-0500
TZOFFSETTO:-0600
TZNAME:CST
DTSTART:20271107T070000
END:STANDARD
END:VTIMEZONE
BEGIN:VEVENT
DTSTART;TZID=America/Chicago:20260506T160000
DTEND;TZID=America/Chicago:20260506T180000
DTSTAMP:20260423T002400
CREATED:20260422T205949Z
LAST-MODIFIED:20260422T210106Z
UID:10001726-1778083200-1778090400@jccstl.com
SUMMARY:Adult Day at the J Open House
DESCRIPTION:Experience Adult Day at the J when you join us at an open house!\nJoin us at an Adult Day at the J location in Chesterfield or Creve Coeur and find out what separates us from the rest! \nGuests will experience highlights such as: \n\nCommunity outings and integration opportunities\nEngaging social activities\nGarden spaces\nFood services and meals\nCampus offerings\, including swimming and Tai Chi\n\nJoin us for one of two upcoming open houses this May—or join us for a private tour! \n\nTwo Open House Opportunities\nWednesday\, May 6\, in Chesterfield\n4–6pm\nThe JCA Charitable Foundation Adult Day at the J – Chesterfield\n16801 Baxter Road | Chesterfield\, MO 63005 (map it) \nWednesday\, May 13\, in Creve Coeur\n4–6pm\nAdult Day at the J – Creve Coeur\n2 Millstone Campus Drive | St. Louis\, MO 63146 (map it) \nJump to Registration\n\nAbout Adult Day at the J\nFor more than 45 years\, the Adult Day at the J has provided high-quality programming for seniors and young adults with cognitive and physical impairments. \nTwo Unique Programs\nAdult Day at the J operates two unique program tracks\, the IN Program and CONNECTIONS Program\, which are expressly designed to help participants achieve individual goals in a group setting. \nHelping Families Afford Care\nThe J has a variety of funding options available\, including Medicaid\, DMH\, VA benefits\, and private pay. Stop by and chat about what works for you! \n\nRegistration\nRegistration requested but not required. \nDetails coming soon \n\nQuestions?\nContact Tamico Jones\, Senior Director of Life Enrichment & Adult Day Services \nAdult Day at the J\njccstl.com/adj\nChesterfield: 314-442-3123 | Creve Coeur: 314-442-3248 \nEmail Tamico to Schedule a Tour
URL:https://jccstl.com/event/adult-day-at-the-j-open-house/2026-05-06/
LOCATION:The J – Marilyn Fox Building (Adult Day at the J)\, 16801 Baxter Road\, Chesterfield\, MO\, 63005\, United States
CATEGORIES:Community,Adults,Seniors
ATTACH;FMTTYPE=image/jpeg:https://jccstl.com/wp-content/uploads/2026/04/39f64968-70d0-40ba-97e2-303e716949ef1.jpg
END:VEVENT
BEGIN:VEVENT
DTSTART;TZID=America/Chicago:20260513T160000
DTEND;TZID=America/Chicago:20260513T180000
DTSTAMP:20260423T002400
CREATED:20260422T205949Z
LAST-MODIFIED:20260422T210106Z
UID:10001727-1778688000-1778695200@jccstl.com
SUMMARY:Adult Day at the J Open House
DESCRIPTION:Experience Adult Day at the J when you join us at an open house!\nJoin us at an Adult Day at the J location in Chesterfield or Creve Coeur and find out what separates us from the rest! \nGuests will experience highlights such as: \n\nCommunity outings and integration opportunities\nEngaging social activities\nGarden spaces\nFood services and meals\nCampus offerings\, including swimming and Tai Chi\n\nJoin us for one of two upcoming open houses this May—or join us for a private tour! \n\nTwo Open House Opportunities\nWednesday\, May 6\, in Chesterfield\n4–6pm\nThe JCA Charitable Foundation Adult Day at the J – Chesterfield\n16801 Baxter Road | Chesterfield\, MO 63005 (map it) \nWednesday\, May 13\, in Creve Coeur\n4–6pm\nAdult Day at the J – Creve Coeur\n2 Millstone Campus Drive | St. Louis\, MO 63146 (map it) \nJump to Registration\n\nAbout Adult Day at the J\nFor more than 45 years\, the Adult Day at the J has provided high-quality programming for seniors and young adults with cognitive and physical impairments. \nTwo Unique Programs\nAdult Day at the J operates two unique program tracks\, the IN Program and CONNECTIONS Program\, which are expressly designed to help participants achieve individual goals in a group setting. \nHelping Families Afford Care\nThe J has a variety of funding options available\, including Medicaid\, DMH\, VA benefits\, and private pay. Stop by and chat about what works for you! \n\nRegistration\nRegistration requested but not required. \nDetails coming soon \n\nQuestions?\nContact Tamico Jones\, Senior Director of Life Enrichment & Adult Day Services \nAdult Day at the J\njccstl.com/adj\nChesterfield: 314-442-3123 | Creve Coeur: 314-442-3248 \nEmail Tamico to Schedule a Tour
URL:https://jccstl.com/event/adult-day-at-the-j-open-house/2026-05-13/
LOCATION:The J – Marilyn Fox Building (Adult Day at the J)\, 16801 Baxter Road\, Chesterfield\, MO\, 63005\, United States
CATEGORIES:Community,Adults,Seniors
ATTACH;FMTTYPE=image/jpeg:https://jccstl.com/wp-content/uploads/2026/04/39f64968-70d0-40ba-97e2-303e716949ef1.jpg
END:VEVENT
END:VCALENDAR