BEGIN:VCALENDAR
VERSION:2.0
PRODID:-//The J - St. Louis - ECPv6.15.16//NONSGML v1.0//EN
CALSCALE:GREGORIAN
METHOD:PUBLISH
X-ORIGINAL-URL:https://jccstl.com
X-WR-CALDESC:Events for The J - St. Louis
REFRESH-INTERVAL;VALUE=DURATION:PT1H
X-Robots-Tag:noindex
X-PUBLISHED-TTL:PT1H
BEGIN:VTIMEZONE
TZID:America/Chicago
BEGIN:DAYLIGHT
TZOFFSETFROM:-0600
TZOFFSETTO:-0500
TZNAME:CDT
DTSTART:20220313T080000
END:DAYLIGHT
BEGIN:STANDARD
TZOFFSETFROM:-0500
TZOFFSETTO:-0600
TZNAME:CST
DTSTART:20221106T070000
END:STANDARD
BEGIN:DAYLIGHT
TZOFFSETFROM:-0600
TZOFFSETTO:-0500
TZNAME:CDT
DTSTART:20230312T080000
END:DAYLIGHT
BEGIN:STANDARD
TZOFFSETFROM:-0500
TZOFFSETTO:-0600
TZNAME:CST
DTSTART:20231105T070000
END:STANDARD
BEGIN:DAYLIGHT
TZOFFSETFROM:-0600
TZOFFSETTO:-0500
TZNAME:CDT
DTSTART:20240310T080000
END:DAYLIGHT
BEGIN:STANDARD
TZOFFSETFROM:-0500
TZOFFSETTO:-0600
TZNAME:CST
DTSTART:20241103T070000
END:STANDARD
END:VTIMEZONE
BEGIN:VEVENT
DTSTART;TZID=America/Chicago:20230805T190000
DTEND;TZID=America/Chicago:20230805T210000
DTSTAMP:20260425T073018
CREATED:20230712T144606Z
LAST-MODIFIED:20230731T130514Z
UID:10000280-1691262000-1691269200@jccstl.com
SUMMARY:Tu B'Av Date Night - Party at the Pool - CANCELED
DESCRIPTION:Families with children 12 & younger. Lifeguards and counselors will be on duty. Only kids who are able to swim independently may register as swimmers. The gymnasium and classrooms\nwith crafts will be open for kids who cannot swim independently. \nSFC Outdoor Pool\nSaturday\, August 5 from 7-9pm\n$18/child \nThis event is no longer available.
URL:https://jccstl.com/event/tu-bav-date-night-party-at-the-pool/
LOCATION:MO
CATEGORIES:Jewish Life,Birth-Age 5,Grades K-6,Families with Children
ORGANIZER;CN="Avital Kadosh":MAILTO:akadosh@jccstl.org
END:VEVENT
BEGIN:VEVENT
DTSTART;TZID=America/Chicago:20230822T080000
DTEND;TZID=America/Chicago:20230822T170000
DTSTAMP:20260425T073018
CREATED:20230822T175202Z
LAST-MODIFIED:20230822T175202Z
UID:10000292-1692691200-1692723600@jccstl.com
SUMMARY:Nishmah Ice Skating and Hanukkah Recipe Exchange
DESCRIPTION:Adult Women. An evening of ice skating\, socializing\, and sharing our favorite Hanukkah recipes at the Steinberg Skating Rink in Forest Park.
URL:https://jccstl.com/event/nishmah-ice-skating-and-hanukkah-recipe-exchange/
LOCATION:Steinberg Skating Rink in Forest Park\, 400 Jefferson Dr\, St. Louis\, MO\, 63110\, United States
END:VEVENT
BEGIN:VEVENT
DTSTART;TZID=America/Chicago:20230827T100000
DTEND;TZID=America/Chicago:20230831T200000
DTSTAMP:20260425T073018
CREATED:20230712T175443Z
LAST-MODIFIED:20230712T175443Z
UID:10000199-1693130400-1693512000@jccstl.com
SUMMARY:Summer Used Book Sale 2023
DESCRIPTION:Sunday\, August 27 – Thursday\, August 31\nSunday\, August 27: 10am-6pm (Preview Day: $10 admission)\nMonday\, August 28: 10am-7pm (Free admission)\nTuesday\, August 29: 10am-7pm (Free admission)\nWednesday\, August 30: 10am-7pm (Free admission)\nThursday\, August 31: 10am-8pm (Free admission; Fill a bag for $5!) \nThousands of books will be available for sale at the J Used Book Sale. Stock up on your reading material. Proceeds from the sale benefit the Cultural Arts Department.
URL:https://jccstl.com/event/summer-used-book-sale-2023/
LOCATION:Arts & Education Building – The J Staenberg Family Complex\, 2 Millstone Campus Drive\, St. Louis\, MO\, 63146\, United States
CATEGORIES:Cultural Arts & Ideas,Community
GEO:38.6857087;-90.4096539
X-APPLE-STRUCTURED-LOCATION;VALUE=URI;X-ADDRESS=Arts & Education Building – The J Staenberg Family Complex 2 Millstone Campus Drive St. Louis MO 63146 United States;X-APPLE-RADIUS=500;X-TITLE=2 Millstone Campus Drive:geo:-90.4096539,38.6857087
END:VEVENT
END:VCALENDAR