BEGIN:VCALENDAR
VERSION:2.0
PRODID:-//The J - St. Louis - ECPv6.15.16//NONSGML v1.0//EN
CALSCALE:GREGORIAN
METHOD:PUBLISH
X-ORIGINAL-URL:https://jccstl.com
X-WR-CALDESC:Events for The J - St. Louis
REFRESH-INTERVAL;VALUE=DURATION:PT1H
X-Robots-Tag:noindex
X-PUBLISHED-TTL:PT1H
BEGIN:VTIMEZONE
TZID:America/Chicago
BEGIN:DAYLIGHT
TZOFFSETFROM:-0600
TZOFFSETTO:-0500
TZNAME:CDT
DTSTART:20250309T080000
END:DAYLIGHT
BEGIN:STANDARD
TZOFFSETFROM:-0500
TZOFFSETTO:-0600
TZNAME:CST
DTSTART:20251102T070000
END:STANDARD
BEGIN:DAYLIGHT
TZOFFSETFROM:-0600
TZOFFSETTO:-0500
TZNAME:CDT
DTSTART:20260308T080000
END:DAYLIGHT
BEGIN:STANDARD
TZOFFSETFROM:-0500
TZOFFSETTO:-0600
TZNAME:CST
DTSTART:20261101T070000
END:STANDARD
BEGIN:DAYLIGHT
TZOFFSETFROM:-0600
TZOFFSETTO:-0500
TZNAME:CDT
DTSTART:20270314T080000
END:DAYLIGHT
BEGIN:STANDARD
TZOFFSETFROM:-0500
TZOFFSETTO:-0600
TZNAME:CST
DTSTART:20271107T070000
END:STANDARD
END:VTIMEZONE
BEGIN:VEVENT
DTSTART;VALUE=DATE:20260909
DTEND;VALUE=DATE:20260910
DTSTAMP:20260422T091122
CREATED:20260202T210250Z
LAST-MODIFIED:20260306T220436Z
UID:10001621-1788912000-1788998399@jccstl.com
SUMMARY:Lynnie's Light for Life 2026
DESCRIPTION:Save the Date for Our Next Lynnie’s Light: Wednesday\, September 9\, 2026!\nLynnie’s Light for Life is the annual gathering and signature fundraiser dedicated to shining a light on the extraordinary work of The Hamsa Wellness Community. Each year\, the community comes together to celebrate connection\, honor the legacy of a visionary leader\, and support programs that bring hope\, education\, and strength to individuals and families facing hereditary cancers. \nAbout Lynnie’s Light\nLynn Isaacs Palan (Lynnie) was a pioneer and leader of both Nishmah: The St. Louis Jewish Women’s Project and Sharsheret Supports STL\, from which The Hamsa Wellness Community evolved. Through her passionate volunteerism and professional work in these organizations and many others\, she was dedicated to building vibrant communities and changing lives\, especially for individuals living with\, or at increased genetic risk of developing cancer. Lynnie lost her battle to breast cancer on April 10\, 2018\, leaving a legacy of philanthropy among her family\, friends\, and the entire St. Louis community. Lynnie’s passion and drive will forever remain the legacy of The Hamsa Wellness Community and Nishmah. \nFor more information or to donate to Lynnie’s Legacy\, contact Director of the Hamsa Wellness Community\, Chelsea Leon\, at cleon@jccstl.org.
URL:https://jccstl.com/event/lynnies-light-for-life-2026/
CATEGORIES:Jewish Life,Community,Adults
ATTACH;FMTTYPE=image/png:https://jccstl.com/wp-content/uploads/2026/03/Lynnies-Light-for-Life-logo-banner-2000x1000-1.png
END:VEVENT
BEGIN:VEVENT
DTSTART;VALUE=DATE:20261009
DTEND;VALUE=DATE:20261012
DTSTAMP:20260422T091122
CREATED:20250903T233016Z
LAST-MODIFIED:20250903T233016Z
UID:10000432-1791504000-1791763199@jccstl.com
SUMMARY:Nishmah Women's Retreat
DESCRIPTION:Save the Dates!
URL:https://jccstl.com/event/nishmah-womens-retreat-2/
LOCATION:Camp Sabra – The Staenberg Peninsula\, 30750 Camp Sabra Road\, Rocky Mt\, MO\, 65072\, United States
CATEGORIES:Jewish Life,Adults
ATTACH;FMTTYPE=image/png:https://jccstl.com/wp-content/uploads/2025/09/Womens-Retreat-Image.png
GEO:38.2443723;-92.7344792
X-APPLE-STRUCTURED-LOCATION;VALUE=URI;X-ADDRESS=Camp Sabra – The Staenberg Peninsula 30750 Camp Sabra Road Rocky Mt MO 65072 United States;X-APPLE-RADIUS=500;X-TITLE=30750 Camp Sabra Road:geo:-92.7344792,38.2443723
END:VEVENT
END:VCALENDAR