BEGIN:VCALENDAR
VERSION:2.0
PRODID:-//The J - St. Louis - ECPv6.15.16//NONSGML v1.0//EN
CALSCALE:GREGORIAN
METHOD:PUBLISH
X-ORIGINAL-URL:https://jccstl.com
X-WR-CALDESC:Events for The J - St. Louis
REFRESH-INTERVAL;VALUE=DURATION:PT1H
X-Robots-Tag:noindex
X-PUBLISHED-TTL:PT1H
BEGIN:VTIMEZONE
TZID:America/Chicago
BEGIN:DAYLIGHT
TZOFFSETFROM:-0600
TZOFFSETTO:-0500
TZNAME:CDT
DTSTART:20240310T080000
END:DAYLIGHT
BEGIN:STANDARD
TZOFFSETFROM:-0500
TZOFFSETTO:-0600
TZNAME:CST
DTSTART:20241103T070000
END:STANDARD
BEGIN:DAYLIGHT
TZOFFSETFROM:-0600
TZOFFSETTO:-0500
TZNAME:CDT
DTSTART:20250309T080000
END:DAYLIGHT
BEGIN:STANDARD
TZOFFSETFROM:-0500
TZOFFSETTO:-0600
TZNAME:CST
DTSTART:20251102T070000
END:STANDARD
BEGIN:DAYLIGHT
TZOFFSETFROM:-0600
TZOFFSETTO:-0500
TZNAME:CDT
DTSTART:20260308T080000
END:DAYLIGHT
BEGIN:STANDARD
TZOFFSETFROM:-0500
TZOFFSETTO:-0600
TZNAME:CST
DTSTART:20261101T070000
END:STANDARD
BEGIN:DAYLIGHT
TZOFFSETFROM:-0600
TZOFFSETTO:-0500
TZNAME:CDT
DTSTART:20270314T080000
END:DAYLIGHT
BEGIN:STANDARD
TZOFFSETFROM:-0500
TZOFFSETTO:-0600
TZNAME:CST
DTSTART:20271107T070000
END:STANDARD
END:VTIMEZONE
BEGIN:VEVENT
DTSTART;TZID=America/Chicago:20251213T180000
DTEND;TZID=America/Chicago:20251213T213000
DTSTAMP:20260419T134617
CREATED:20251114T210527Z
LAST-MODIFIED:20251204T214352Z
UID:10000452-1765648800-1765661400@jccstl.com
SUMMARY:Parent's Night Out - Gym & Swim
DESCRIPTION:Ages 3-12 \nParents take the night to get dinner and finish up your holiday shopping\, and bring the kids to us for fun at the J! \nYour kiddos will run around in the gymnasium playing a variety of sports and games led by our amazing J staff. Or they can dive into pool time with games and free swim for all our swimmers. Plus\, unleash creativity with awesome art projects designed for our aspiring artists! \nMember Pricing\n$25\n$10 for each additional sibling \nNon-Member Pricing\n$35\n$15 for each additional sibling \nAGES 3-12 \nREGISTER
URL:https://jccstl.com/event/parents-night-out-glow-party/
CATEGORIES:Birth-Age 5,Grades K-6,Grades 7-12,Families with Children
ATTACH;FMTTYPE=image/png:https://jccstl.com/wp-content/uploads/2025/11/Parents-Night-Out-GymSwim-Website-Feature-Image-as-Recd-by-Google-1280x720-2.png
END:VEVENT
BEGIN:VEVENT
DTSTART;TZID=America/Chicago:20251214T120000
DTEND;TZID=America/Chicago:20251214T180000
DTSTAMP:20260419T134617
CREATED:20250820T204505Z
LAST-MODIFIED:20260401T193826Z
UID:10000415-1765713600-1765735200@jccstl.com
SUMMARY:Hanukkah at Garden Glow
DESCRIPTION:Noon–4pm Daytime Activities | 4:30pm Garden Glow Begins \nJoin us for another great year celebrating Hanukkah with the Missouri Botanical Garden. Daytime activities are from 12-4pm and are free to attend in the Bayer Event Center. Listen to live music and visit our vendors! \nAt 4:30pm\, Garden Glow tickets are available for $2 off for J Members when you use the J’s special Garden Glow link. Purchase them ahead of time to receive our special discount. Join friends and family and be sure to visit our J tables with gelt\, sufganiot (jelly donuts)\, dreidels\, and more! See if you can find our human-sized dreidel! Alex Rich will be playing live music outside as you enter the Garden. This one is a can’t-miss! \n \nGET TICKETS  See all Hanukkah 2025 Events
URL:https://jccstl.com/event/hanukkah-at-garden-glow-3/
LOCATION:Missouri Botanical Gardens\, 4344 Shaw Blvd\, St. Louis\, MO\, 63110\, United States
CATEGORIES:Jewish Life,Community,Birth-Age 5,Grades K-6,Grades 7-12,Families with Children,Adults,Seniors
ATTACH;FMTTYPE=image/png:https://jccstl.com/wp-content/uploads/2025/08/Garden-Glow-Website-Feature-Image-as-Recd-by-Google-1280x720-1.png
END:VEVENT
BEGIN:VEVENT
DTSTART;TZID=America/Chicago:20260130T173000
DTEND;TZID=America/Chicago:20260130T200000
DTSTAMP:20260419T134617
CREATED:20251219T181957Z
LAST-MODIFIED:20260401T194409Z
UID:10000423-1769794200-1769803200@jccstl.com
SUMMARY:Sports Shabbat with the J's Family Center
DESCRIPTION:Celebrate Shabbat and play at the J! Join The J’s Family Center in the gym for a fun sports-themed Shabbat celebration designed for families with ages 0-5 and their families! We’ll enjoy Shabbat blessings\, a sing-a-long\, a kosher Shabbat dinner\, and plenty of time to connect with friends new and old. Grandparents\, friends\, and families are warmly welcome. The KidZone space will be open for little ones to play! \nAdults: $15 Members | $18 Non-Members\nChildren ages 3-12: $7 Members | $10 Non-Members\nAges 2 and younger: Free \nFOR FAMILIES WITH CHILDREN | REGISTRATION REQUIRED BY MONDAY\, JANUARY 26\, 2026 \nRegister Today \n\nThe J’s Family Center is a welcoming space where families with young children (ages 5 and under) come to connect\, learn\, and grow together. We provide a warm and nurturing environment where caregivers and children find support\, friendships\, and joyful experiences.
URL:https://jccstl.com/event/abcs-of-shabbat-2-2/
CATEGORIES:Early Childhood,Jewish Life,Community,Birth-Age 5,Grades K-6,Families with Children,Adults
ATTACH;FMTTYPE=image/png:https://jccstl.com/wp-content/uploads/2025/12/Sports-Shabbat-Event-Page-BannerFeature-Image.png
END:VEVENT
BEGIN:VEVENT
DTSTART;TZID=America/Chicago:20260227T173000
DTEND;TZID=America/Chicago:20260227T190000
DTSTAMP:20260419T134617
CREATED:20251219T182414Z
LAST-MODIFIED:20260224T221937Z
UID:10000424-1772213400-1772218800@jccstl.com
SUMMARY:Purim Shabbat with the J's Family Center
DESCRIPTION:This Shabbat program is presented in partnership with Saul Mirowitz Jewish Community School. \nJoin us for a fun\, Purim-themed Shabbat celebration designed for families with children of all ages! We’ll sing our way into Shabbat with blessings and a song\, bake hamantaschen\, make fun Purim crafts with our friends from Saul Mirowitz Jewish Community School\, and enjoy a Kosher dairy Shabbat dinner of wacky breakfast! Grandparents\, friends\, and families of every background—Jewish or not—are warmly welcome. Please email ebrockman@jccstl.org if you will need a highchair for dinner. \nSchedule\n\n5:30pm Program\n6:30pm Dinner and Blessings\n\nParking\nThis event takes place on the lower level of the Staenberg Family Complex. You may enter through either the Early Childhood Center doors or the Adult Day at the J doors. Parking is located behind the outdoor pool. \n\nRegistration Required\nAdults/teens ages 13+: $16.21 (fees included)\nChildren ages 3-12: $7.57 (fees included)\nChildren ages 2 years and younger: Free \nRegister \n\nLearn more about the J’s Family Center \n 
URL:https://jccstl.com/event/abcs-of-shabbat-2-3/
CATEGORIES:Early Childhood,Jewish Life,Community,Birth-Age 5,Grades K-6,Families with Children,Adults
ATTACH;FMTTYPE=image/webp:https://jccstl.com/wp-content/uploads/2025/12/a77400cb-e481.webp
END:VEVENT
BEGIN:VEVENT
DTSTART;TZID=America/Chicago:20260301T130000
DTEND;TZID=America/Chicago:20260301T150000
DTSTAMP:20260419T134617
CREATED:20260212T223430Z
LAST-MODIFIED:20260226T063201Z
UID:10001640-1772370000-1772377200@jccstl.com
SUMMARY:J Day Camps Open House (2 dates & locations!)
DESCRIPTION:Your Summer Starts Here!\nJoin us for a J Day Camps Open House this March and get a first look at our summer camp programs and meet the staff. \n\nLearn about our NEW camp offerings\, including J Youth Theatre camp\nMeet NEW Senior Camp Director Mark Cohen\nGet a chance to win a Buy 1 Get 1 week of summer camp\nSee some friendly camp staff\nEnjoy snacks\, music\, activities\, and more\n\nTwo convenient locations and dates: \nSunday\, March 1\, 1-3pm\nStaenberg Family Complex in Creve Coeur\n2 Millstone Campus Drive\, St. Louis\, MO 63146\nSunday\, March 8\, 1-3pm\nMarilyn Fox Building in Chesterfield\n16801 Baxter Road\, Chesterfield\, MO 63005\n\n\nRegistration\n\nRegistration requested by the Friday before the event. Didn’t register? Come anyway. \n \n\nQuestions?\n\nContact Mark Cohen 314.442.3263 \n\n\nBack to Top \nVisit the J Day Camps webpage ▶
URL:https://jccstl.com/event/j-day-camps-open-house-2-dates-locations/
CATEGORIES:Early Childhood,Camps & Afterschool,Birth-Age 5,Grades K-6,Families with Children
ATTACH;FMTTYPE=image/png:https://jccstl.com/wp-content/uploads/2026/01/4106_J-Day-Camps-Open-House-poster_PROOF_v2_art-cropped-for-web-banner.png
END:VEVENT
BEGIN:VEVENT
DTSTART;TZID=America/Chicago:20260308T130000
DTEND;TZID=America/Chicago:20260308T150000
DTSTAMP:20260419T134617
CREATED:20260212T223556Z
LAST-MODIFIED:20260212T223556Z
UID:10001641-1772974800-1772982000@jccstl.com
SUMMARY:J Day Camps Open House (2 dates & locations!)
DESCRIPTION:Your Summer Starts Here!\nJoin us for a J Day Camps Open House this March and get a first look at our summer camp programs and meet the staff. \n\nLearn about our NEW camp offerings\, including J Youth Theatre camp\nMeet NEW Senior Camp Director Mark Cohen\nGet a chance to win a Buy 1 Get 1 week of summer camp\nSee some friendly camp staff\nEnjoy snacks\, music\, activities\, and more\n\nTwo convenient locations and dates: \nSunday\, March 1\, 1-3pm\nStaenberg Family Complex in Creve Coeur\n2 Millstone Campus Drive\, St. Louis\, MO 63146\nSunday\, March 8\, 1-3pm\nMarilyn Fox Building in Chesterfield\n16801 Baxter Road\, Chesterfield\, MO 63005\n\n\nRegistration\n\nREGISTRATION REQUESTED by the Friday before the event. \n \n\nQuestions?\n\nContact Mark Cohen 314.442.3263 \n\n\nBack to Top \nVisit the J Day Camps webpage ▶
URL:https://jccstl.com/event/j-day-camps-open-house-2-dates-locations-2/
LOCATION:The J – Marilyn Fox Building (Main Entrance)\, 16801 Baxter Road\, Chesterfield\, MO\, 63005\, United States
CATEGORIES:Early Childhood,Camps & Afterschool,Birth-Age 5,Grades K-6,Families with Children
ATTACH;FMTTYPE=image/png:https://jccstl.com/wp-content/uploads/2026/01/4106_J-Day-Camps-Open-House-poster_PROOF_v2_art-cropped-for-web-banner.png
GEO:38.6607972;-90.5806006
X-APPLE-STRUCTURED-LOCATION;VALUE=URI;X-ADDRESS=The J – Marilyn Fox Building (Main Entrance) 16801 Baxter Road Chesterfield MO 63005 United States;X-APPLE-RADIUS=500;X-TITLE=16801 Baxter Road:geo:-90.5806006,38.6607972
END:VEVENT
BEGIN:VEVENT
DTSTART;TZID=America/Chicago:20260412T150000
DTEND;TZID=America/Chicago:20260412T163000
DTSTAMP:20260419T134617
CREATED:20260327T151217Z
LAST-MODIFIED:20260327T153451Z
UID:10001699-1776006000-1776011400@jccstl.com
SUMMARY:Party in the Park with J Day Camps
DESCRIPTION:Join us at the Stacy Park Pavilion for a J Day Camps Party in the Park! Learn all about the amazing summer experience your child can have at J Day Camps while the kids play. \n\nMeet camp staff\nLearn about J Day Camps programs\nAsk summer 2026 questions\nKids play while parents connect\n\n\nRegistration\nLet us know you’re coming! Email the Cherry Family. \n\nAbout J Day Camps\nJ Day Camps offer unforgettable summer experiences for campers ages 3 to grade 7\, where curiosity\, confidence\, and joyful exploration come to life. Rooted in the warm values and traditions of our Jewish community\, our camps create simple\, meaningful moments—like celebrating Shabbat or highlighting kindness—that feel natural and welcoming to families of every background and belief. Learn More at jccstl.com/daycamps.
URL:https://jccstl.com/event/party-in-the-park-with-j-day-camps/
LOCATION:Stacy Park Pavilion\, 9750 Old Bonhomme Road\, Olivette\, United States
CATEGORIES:Camps & Afterschool,Birth-Age 5,Grades K-6,Families with Children
ATTACH;FMTTYPE=image/png:https://jccstl.com/wp-content/uploads/2026/03/J-Day-Camps-Party-in-the-Park-2000x1000-1.png
END:VEVENT
BEGIN:VEVENT
DTSTART;TZID=America/Chicago:20260422T173000
DTEND;TZID=America/Chicago:20260422T200000
DTSTAMP:20260419T134617
CREATED:20250820T205935Z
LAST-MODIFIED:20260403T212018Z
UID:10000427-1776879000-1776888000@jccstl.com
SUMMARY:Yom Ha'atzmaut: Israel Independence Community Celebration
DESCRIPTION:All ages. Come celebrate Israel’s Independence Day with a spectacular Yom Ha’atzmaut event! The Yom Ha’atzmaut celebration will feature exciting activities\, live entertainment\, and cultural experiences for the whole family. \nThis vibrant event promises something for everyone\, from engaging cultural experiences to family-friendly activities and captivating performances. Don’t miss out on this wonderful opportunity to celebrate\, connect\, and enjoy a night of Israeli pride and joy with our community. \n\n\nAbout Shahar Cohen\, Israeli Stand-Up Comedian & Social Media Sensation\nIG @ShaharCohen90 \nGet ready for a night of non-stop laughter with Shahar Cohen!\nAfter taking Jewish communities worldwide by storm – especially in North America Shahar Cohen brings his signature mix of character-driven comedy and stand-up to the stage in “My Life”\, a show that hilariously unpacks the quirks\, contradictions\, and cultural clashes between Israelis and American Jews. \nBest known for his viral America vs. Israel videos\, Shahar kicks off the night as Nofar\, his most beloved character—confident\, loud\, and completely oblivious before taking the mic himself for an unfiltered\, high-energy stand-up set. \nFrom the way Israelis and Americans order coffee to their wildly different approaches to social norms\, nothing is off-limits in this sharp\, relatable\, and unforgettable comedy experience. \nThrough humor\, Shahar has brought Jews across the world together\, especially in times when they’ve needed it most. His ability to find laughter in shared experiences has\nmade him one of the most in-demand Jewish comedians today. \nWhether you’re Israeli\, American\, or just love smart Jewish humor\, My Life is the ultimate comedy show that unites us all\, one laugh at a time! \n  \n\nRegister
URL:https://jccstl.com/event/yom-haatzmaut-israel-independence-community-celebration-2/
LOCATION:The J – Marilyn Fox Building (Main Entrance)\, 16801 Baxter Road\, Chesterfield\, MO\, 63005\, United States
CATEGORIES:Jewish Life,Birth-Age 5,Grades K-6,Grades 7-12,Families with Children,Adults,Seniors
ATTACH;FMTTYPE=image/jpeg:https://jccstl.com/wp-content/uploads/2025/08/Shahar-Cohen-Yom-Haatzmaut-Website-Showpass-Banner-2000x1000-1.jpg
GEO:38.6607972;-90.5806006
X-APPLE-STRUCTURED-LOCATION;VALUE=URI;X-ADDRESS=The J – Marilyn Fox Building (Main Entrance) 16801 Baxter Road Chesterfield MO 63005 United States;X-APPLE-RADIUS=500;X-TITLE=16801 Baxter Road:geo:-90.5806006,38.6607972
END:VEVENT
BEGIN:VEVENT
DTSTART;TZID=America/Chicago:20260430T180000
DTEND;TZID=America/Chicago:20260430T193000
DTSTAMP:20260419T134617
CREATED:20260414T210714Z
LAST-MODIFIED:20260415T213751Z
UID:10001721-1777572000-1777577400@jccstl.com
SUMMARY:The "Last Hurrah" A Camp Open House
DESCRIPTION:Camp is Approaching Fast! Are Your Child’s Summer Plans Finalized Yet?\nJoin us for a Camp Open House and hear from Mark Cohen\, Director of J Day Camps\, and Kim Holtzman Sloan\, Director of Camp Sabra\, the J’s sleepaway camp\, as they share what makes each camp experience special. \nEnjoy camp games\, song sessions\, videos\, prizes\, dinner and dessert—all on us! \nPlus\, learn what’s new for the upcoming season\, how to find the right fit for your family\, and how to tell if your child is ready for a day or sleepaway camp. \n \nRegister\n \n  \n 
URL:https://jccstl.com/event/the-last-hurrah-a-camp-open-house/
LOCATION:The J – Staenberg Family Complex (Arts & Education Building)\, 2 Millstone Campus Drive\, St. Louis\, MO\, 63146
CATEGORIES:Early Childhood,Camps & Afterschool,Jewish Life,Birth-Age 5,Grades K-6,Grades 7-12,Families with Children
ATTACH;FMTTYPE=image/jpeg:https://jccstl.com/wp-content/uploads/2026/04/4249_J-Day-Camp-Camp-Sabra-Last-Hurrah-DIGITAL_640x200px-1-scaled.jpg
GEO:38.6857087;-90.4096539
X-APPLE-STRUCTURED-LOCATION;VALUE=URI;X-ADDRESS=The J – Staenberg Family Complex (Arts & Education Building) 2 Millstone Campus Drive St. Louis MO 63146;X-APPLE-RADIUS=500;X-TITLE=2 Millstone Campus Drive:geo:-90.4096539,38.6857087
END:VEVENT
END:VCALENDAR