BEGIN:VCALENDAR
VERSION:2.0
PRODID:-//The J - St. Louis - ECPv6.15.16//NONSGML v1.0//EN
CALSCALE:GREGORIAN
METHOD:PUBLISH
X-ORIGINAL-URL:https://jccstl.com
X-WR-CALDESC:Events for The J - St. Louis
REFRESH-INTERVAL;VALUE=DURATION:PT1H
X-Robots-Tag:noindex
X-PUBLISHED-TTL:PT1H
BEGIN:VTIMEZONE
TZID:America/Chicago
BEGIN:DAYLIGHT
TZOFFSETFROM:-0600
TZOFFSETTO:-0500
TZNAME:CDT
DTSTART:20240310T080000
END:DAYLIGHT
BEGIN:STANDARD
TZOFFSETFROM:-0500
TZOFFSETTO:-0600
TZNAME:CST
DTSTART:20241103T070000
END:STANDARD
BEGIN:DAYLIGHT
TZOFFSETFROM:-0600
TZOFFSETTO:-0500
TZNAME:CDT
DTSTART:20250309T080000
END:DAYLIGHT
BEGIN:STANDARD
TZOFFSETFROM:-0500
TZOFFSETTO:-0600
TZNAME:CST
DTSTART:20251102T070000
END:STANDARD
BEGIN:DAYLIGHT
TZOFFSETFROM:-0600
TZOFFSETTO:-0500
TZNAME:CDT
DTSTART:20260308T080000
END:DAYLIGHT
BEGIN:STANDARD
TZOFFSETFROM:-0500
TZOFFSETTO:-0600
TZNAME:CST
DTSTART:20261101T070000
END:STANDARD
END:VTIMEZONE
BEGIN:VEVENT
DTSTART;VALUE=DATE:20250302
DTEND;VALUE=DATE:20250504
DTSTAMP:20260424T105922
CREATED:20250103T190035Z
LAST-MODIFIED:20250227T174926Z
UID:10000379-1740873600-1746316799@jccstl.com
SUMMARY:5K Run Small Group Formation
DESCRIPTION:5K Run Small Group Formation\n18 years + Designed for all fitness levels\, this program provides personalized coaching in a supportive and motivating environment. Over several weeks\, you’ll build endurance\, improve your running technique by increasing your body’s strength and stability through key exercises. Each session includes dynamic warmups\, interval training\, and strength exercises tailored to enhance your performance. \n\n8-week\, 16-session small group training program.\nProgressive treadmill running workouts & strength circuits.\nWarm-ups\, cool-downs\, nutritional tips\, and running “homework.”\nPrepping for the Fiesta de Mayo 5K on Sunday\, May 4 in Webster Groves.\n\nMarch 2- May 3\nStaenberg Family Complex/Creve Coeur\nTuesdays | 6:15pm\nSaturdays | 9:30am \nMarilyn Fox Building/Chesterfield\nWednesdays | 5:30pm\nSaturdays | 11am \nDays Vary by group | March-April \nPricing\n$143 per month | member \nSign up by appointment:\nContact Amber Powell at 314.442.3452 for SFC or Andy Hayes at 314.442.3147 to sign up at Fox.
URL:https://jccstl.com/event/5k-run-small-group-formation/
LOCATION:MO
CATEGORIES:Fitness & Recreation,Community,Adults
END:VEVENT
END:VCALENDAR